BEGIN:VCALENDAR
VERSION:2.0
PRODID:-//217.160.0.217//NONSGML kigkonsult.se iCalcreator 2.20//
CALSCALE:GREGORIAN
METHOD:PUBLISH
X-WR-TIMEZONE:Europe/Berlin
BEGIN:VEVENT
UID:event127@Berufsschule, BOS und FOS Kelheim
DTSTAMP:20260420T102256Z
CATEGORIES:Schule - FOSBOS
DESCRIPTION:Ergänzungsprüfung in der zweiten Fremdsprache zum Erwerb der al
 lg. Hochschulreife\nKategorie: Schule - FOSBOS\nICS-Link: https://bsz-kelh
 eim.de/index.php?option=com_jem&view=event&id=127:ergaenzungspruefung-in-d
 er-zweiten-fremdsprache-zum-erwerb-der-allg-hochschulreife\n
DTSTART;TZID=Europe/Berlin:20160511T090000
DTEND;TZID=Europe/Berlin:20160511T110000
LOCATION:FOSBOS Kelheim\,Schützenstraße 30\,93309 Kelheim
SUMMARY:Ergänzungsprüfung in der zweiten Fremdsprache zum Erwerb der allg. 
 Hochschulreife
URL:https://bsz-kelheim.de/index.php?option=com_jem&view=event&id=127:ergae
 nzungspruefung-in-der-zweiten-fremdsprache-zum-erwerb-der-allg-hochschulre
 ife
END:VEVENT
END:VCALENDAR
