BEGIN:VCALENDAR
VERSION:2.0
PRODID:-//217.160.0.217//NONSGML kigkonsult.se iCalcreator 2.20//
CALSCALE:GREGORIAN
METHOD:PUBLISH
X-WR-TIMEZONE:Europe/Berlin
BEGIN:VEVENT
UID:event139@Berufsschule, BOS und FOS Kelheim
DTSTAMP:20260423T113331Z
CATEGORIES:Schule - FOSBOS
DESCRIPTION:Feststellungsprüfung für FOS/BOS-Bewerber\nKategorie: Schule - 
 FOSBOS\nICS-Link: https://bsz-kelheim.de/index.php?option=com_jem&view=eve
 nt&id=139:feststellungspruefung-fuer-fos-bos-bewerber\n
DTSTART;VALUE=DATE:20170726
DTEND;VALUE=DATE:20170727
LOCATION:FOSBOS Kelheim\,Schützenstraße 30\,93309 Kelheim
SUMMARY:Feststellungsprüfung für FOS/BOS-Bewerber
URL:https://bsz-kelheim.de/index.php?option=com_jem&view=event&id=139:fests
 tellungspruefung-fuer-fos-bos-bewerber
END:VEVENT
END:VCALENDAR
