BEGIN:VCALENDAR
VERSION:2.0
PRODID:-//217.160.0.217//NONSGML kigkonsult.se iCalcreator 2.20//
CALSCALE:GREGORIAN
METHOD:PUBLISH
X-WR-TIMEZONE:Europe/Berlin
BEGIN:VEVENT
UID:event15@Berufsschule, BOS und FOS Kelheim
DTSTAMP:20260421T135729Z
CATEGORIES:Schule - FOSBOS
DESCRIPTION:Info Seminarfach\nKategorie: Schule - FOSBOS\nICS-Link: https:/
 /bsz-kelheim.de/index.php?option=com_jem&view=event&id=15:info-seminarfach
 \n
DTSTART;TZID=Europe/Berlin:20170426T115000
DTEND;TZID=Europe/Berlin:20170426T123500
LOCATION:FOSBOS Kelheim\,Schützenstraße 30\,93309 Kelheim
SUMMARY:Info Seminarfach
URL:https://bsz-kelheim.de/index.php?option=com_jem&view=event&id=15:info-s
 eminarfach
END:VEVENT
END:VCALENDAR
