BEGIN:VCALENDAR
VERSION:2.0
PRODID:-//217.160.0.217//NONSGML kigkonsult.se iCalcreator 2.20//
CALSCALE:GREGORIAN
METHOD:PUBLISH
X-WR-TIMEZONE:Europe/Berlin
BEGIN:VEVENT
UID:event150@Berufsschule, BOS und FOS Kelheim
DTSTAMP:20260421T175817Z
CATEGORIES:Schule - FOSBOS
DESCRIPTION:Abschlussfeier an der FOSBOS  mit Verleihung der Abiturzeugniss
 e\nKategorie: Schule - FOSBOS\nICS-Link: https://bsz-kelheim.de/index.php?
 option=com_jem&view=event&id=150:abschlussfeier-an-der-fos-bos-mit-verleih
 ung-der-abiturzeugnisse\n
DTSTART;TZID=Europe/Berlin:20180706T150000
DTEND;TZID=Europe/Berlin:20180706T180000
LOCATION:BSZ Kelheim\,Schützenstraße 30\,93309 Kelheim
SUMMARY:Abschlussfeier an der FOSBOS  mit Verleihung der Abiturzeugnisse
URL:https://bsz-kelheim.de/index.php?option=com_jem&view=event&id=150:absch
 lussfeier-an-der-fos-bos-mit-verleihung-der-abiturzeugnisse
END:VEVENT
END:VCALENDAR
