BEGIN:VCALENDAR
VERSION:2.0
PRODID:-//217.160.0.217//NONSGML kigkonsult.se iCalcreator 2.20//
CALSCALE:GREGORIAN
METHOD:PUBLISH
X-WR-TIMEZONE:Europe/Berlin
BEGIN:VEVENT
UID:event162@Berufsschule, BOS und FOS Kelheim
DTSTAMP:20260421T140308Z
CATEGORIES:Schule - FOSBOS
DESCRIPTION:evtl. Studienfahrt 11. Klassen FOS\nKategorie: Schule - FOSBOS
 \nICS-Link: https://bsz-kelheim.de/index.php?option=com_jem&view=event&id=
 162:zypernfahrt-11-klassen-fos\n
DTSTART;VALUE=DATE:20170605
DTEND;VALUE=DATE:20170611
SUMMARY:evtl. Studienfahrt 11. Klassen FOS
URL:https://bsz-kelheim.de/index.php?option=com_jem&view=event&id=162:zyper
 nfahrt-11-klassen-fos
END:VEVENT
END:VCALENDAR
