BEGIN:VCALENDAR
VERSION:2.0
PRODID:-//217.160.0.217//NONSGML kigkonsult.se iCalcreator 2.20//
CALSCALE:GREGORIAN
METHOD:PUBLISH
X-WR-TIMEZONE:Europe/Berlin
BEGIN:VEVENT
UID:event166@Berufsschule, BOS und FOS Kelheim
DTSTAMP:20260421T175817Z
CATEGORIES:Schule - BS-Kelheim
DESCRIPTION:Berlinfahrt für alle kaufmännischen Abschlussklassen\nKategorie
 : Schule - BS-Kelheim\nICS-Link: https://bsz-kelheim.de/index.php?option=c
 om_jem&view=event&id=166:berlinfahrt-fuer-alle-kaufmaennishcen-abschlusskl
 assen\n
DTSTART;VALUE=DATE:20160530
DTEND;VALUE=DATE:20160604
SUMMARY:Berlinfahrt für alle kaufmännischen Abschlussklassen
URL:https://bsz-kelheim.de/index.php?option=com_jem&view=event&id=166:berli
 nfahrt-fuer-alle-kaufmaennishcen-abschlussklassen
END:VEVENT
END:VCALENDAR
