BEGIN:VCALENDAR
VERSION:2.0
PRODID:-//217.160.0.217//NONSGML kigkonsult.se iCalcreator 2.20//
CALSCALE:GREGORIAN
METHOD:PUBLISH
X-WR-TIMEZONE:Europe/Berlin
BEGIN:VEVENT
UID:event170@Berufsschule, BOS und FOS Kelheim
DTSTAMP:20260419T150855Z
CATEGORIES:Schule - FOSBOS
DESCRIPTION:Abitur FOS/ BOS (13. Klasse)\nKategorie: Schule - FOSBOS\nICS-L
 ink: https://bsz-kelheim.de/index.php?option=com_jem&view=event&id=170:abi
 tur-fos-bos-13-klasse\n
DTSTART;VALUE=DATE:20170529
DTEND;VALUE=DATE:20170603
SUMMARY:Abitur FOS/ BOS (13. Klasse)
URL:https://bsz-kelheim.de/index.php?option=com_jem&view=event&id=170:abitu
 r-fos-bos-13-klasse
END:VEVENT
END:VCALENDAR
