BEGIN:VCALENDAR
VERSION:2.0
PRODID:-//217.160.0.217//NONSGML kigkonsult.se iCalcreator 2.20//
CALSCALE:GREGORIAN
METHOD:PUBLISH
X-WR-TIMEZONE:Europe/Berlin
BEGIN:VEVENT
UID:event179@Berufsschule, BOS und FOS Kelheim
DTSTAMP:20260421T140308Z
CATEGORIES:Schule - WS
DESCRIPTION:Wirtschaftsschule: Klassenelternabend mit Elternbeiratswahl\nKa
 tegorie: Schule - WS\nICS-Link: https://bsz-kelheim.de/index.php?option=co
 m_jem&view=event&id=179:klassenelternabend-mit-elternbeiratswahl\n
DTSTART;TZID=Europe/Berlin:20150929T190000
DTEND;TZID=Europe/Berlin:20150929T190000
LOCATION:Wirtschaftsschule Abensberg\,Römerstraße 12\,93326 Abensberg
SUMMARY:Wirtschaftsschule: Klassenelternabend mit Elternbeiratswahl
URL:https://bsz-kelheim.de/index.php?option=com_jem&view=event&id=179:klass
 enelternabend-mit-elternbeiratswahl
END:VEVENT
END:VCALENDAR
