BEGIN:VCALENDAR
VERSION:2.0
PRODID:-//217.160.0.217//NONSGML kigkonsult.se iCalcreator 2.20//
CALSCALE:GREGORIAN
METHOD:PUBLISH
X-WR-TIMEZONE:Europe/Berlin
BEGIN:VEVENT
UID:event181@Berufsschule, BOS und FOS Kelheim
DTSTAMP:20260421T172907Z
CATEGORIES:Schule - FOSBOS
DESCRIPTION:Theater (für Schüler)\nKategorie: Schule - FOSBOS\nICS-Link: ht
 tps://bsz-kelheim.de/index.php?option=com_jem&view=event&id=181:theater-fu
 er-schueler\n
DTSTART;VALUE=DATE:20160310
DTEND;VALUE=DATE:20160312
SUMMARY:Theater (für Schüler)
URL:https://bsz-kelheim.de/index.php?option=com_jem&view=event&id=181:theat
 er-fuer-schueler
END:VEVENT
END:VCALENDAR
