BEGIN:VCALENDAR
VERSION:2.0
PRODID:-//217.160.0.217//NONSGML kigkonsult.se iCalcreator 2.20//
CALSCALE:GREGORIAN
METHOD:PUBLISH
X-WR-TIMEZONE:Europe/Berlin
BEGIN:VEVENT
UID:event191@Berufsschule, BOS und FOS Kelheim
DTSTAMP:20260421T135617Z
CATEGORIES:Fach BO - Seminarfach
DESCRIPTION:Seminarfach - Modulphase\nKategorie: Fach BO - Seminarfach\nICS
 -Link: https://bsz-kelheim.de/index.php?option=com_jem&view=event&id=191:s
 eminarfach-modulphase\n
DTSTART;VALUE=DATE:20170710
DTEND;VALUE=DATE:20170722
LOCATION:BSZ Kelheim\,Schützenstraße 30\,93309 Kelheim
SUMMARY:Seminarfach - Modulphase
URL:https://bsz-kelheim.de/index.php?option=com_jem&view=event&id=191:semin
 arfach-modulphase
END:VEVENT
END:VCALENDAR
