BEGIN:VCALENDAR
VERSION:2.0
PRODID:-//217.160.0.217//NONSGML kigkonsult.se iCalcreator 2.20//
CALSCALE:GREGORIAN
METHOD:PUBLISH
X-WR-TIMEZONE:Europe/Berlin
BEGIN:VEVENT
UID:event197@Berufsschule, BOS und FOS Kelheim
DTSTAMP:20260421T140307Z
CATEGORIES:Schule - WS
DESCRIPTION:Berufsinformation durch Agentur für Arbeit\nKategorie: Schule -
  WS\nICS-Link: https://bsz-kelheim.de/index.php?option=com_jem&view=event&
 id=197:berufsinformation-durch-agentur-fuer-arbeit\n
DTSTART;VALUE=DATE:20151022
DTEND;VALUE=DATE:20151023
LOCATION:Wirtschaftsschule Abensberg\,Römerstraße 12\,93326 Abensberg
SUMMARY:Berufsinformation durch Agentur für Arbeit
URL:https://bsz-kelheim.de/index.php?option=com_jem&view=event&id=197:beruf
 sinformation-durch-agentur-fuer-arbeit
END:VEVENT
END:VCALENDAR
