BEGIN:VCALENDAR
VERSION:2.0
PRODID:-//217.160.0.217//NONSGML kigkonsult.se iCalcreator 2.20//
CALSCALE:GREGORIAN
METHOD:PUBLISH
X-WR-TIMEZONE:Europe/Berlin
BEGIN:VEVENT
UID:event202@Berufsschule, BOS und FOS Kelheim
DTSTAMP:20260421T103358Z
CATEGORIES:Schule - BS-Kelheim
DESCRIPTION:Abschlussprüfung Kaufleute (schriftlich)\nKategorie: Schule - B
 S-Kelheim\nICS-Link: https://bsz-kelheim.de/index.php?option=com_jem&view=
 event&id=202:abschlusspruefung-bank\n
DTSTART;VALUE=DATE:20161122
DTEND;VALUE=DATE:20161124
SUMMARY:Abschlussprüfung Kaufleute (schriftlich)
URL:https://bsz-kelheim.de/index.php?option=com_jem&view=event&id=202:absch
 lusspruefung-bank
END:VEVENT
END:VCALENDAR
