BEGIN:VCALENDAR
VERSION:2.0
PRODID:-//217.160.0.217//NONSGML kigkonsult.se iCalcreator 2.20//
CALSCALE:GREGORIAN
METHOD:PUBLISH
X-WR-TIMEZONE:Europe/Berlin
BEGIN:VEVENT
UID:event204@Berufsschule, BOS und FOS Kelheim
DTSTAMP:20260421T140531Z
CATEGORIES:Bankkaufleute
DESCRIPTION:Bankenverbindungsstelle\nKategorie: Bankkaufleute\nICS-Link: ht
 tps://bsz-kelheim.de/index.php?option=com_jem&view=event&id=204:bankenverb
 indungstelle\n
DTSTART;VALUE=DATE:20160428
DTEND;VALUE=DATE:20160429
SUMMARY:Bankenverbindungsstelle
URL:https://bsz-kelheim.de/index.php?option=com_jem&view=event&id=204:banke
 nverbindungstelle
END:VEVENT
END:VCALENDAR
