BEGIN:VCALENDAR
VERSION:2.0
PRODID:-//217.160.0.217//NONSGML kigkonsult.se iCalcreator 2.20//
CALSCALE:GREGORIAN
METHOD:PUBLISH
X-WR-TIMEZONE:Europe/Berlin
BEGIN:VEVENT
UID:event206@Berufsschule, BOS und FOS Kelheim
DTSTAMP:20260421T140715Z
CATEGORIES:Bankkaufleute
DESCRIPTION:Besuch Hauptversammlung BMW AG\nKategorie: Bankkaufleute\nICS-L
 ink: https://bsz-kelheim.de/index.php?option=com_jem&view=event&id=206:bes
 uch-hauptversammlung-bmw-ag\n
DTSTART;VALUE=DATE:20160512
DTEND;VALUE=DATE:20160513
SUMMARY:Besuch Hauptversammlung BMW AG
URL:https://bsz-kelheim.de/index.php?option=com_jem&view=event&id=206:besuc
 h-hauptversammlung-bmw-ag
END:VEVENT
END:VCALENDAR
