BEGIN:VCALENDAR
VERSION:2.0
PRODID:-//217.160.0.217//NONSGML kigkonsult.se iCalcreator 2.20//
CALSCALE:GREGORIAN
METHOD:PUBLISH
X-WR-TIMEZONE:Europe/Berlin
BEGIN:VEVENT
UID:event207@Berufsschule, BOS und FOS Kelheim
DTSTAMP:20260419T150004Z
CATEGORIES:Bankkaufleute
DESCRIPTION:Zwischenprüfung Bankkaufleute\nKategorie: Bankkaufleute\nICS-Li
 nk: https://bsz-kelheim.de/index.php?option=com_jem&view=event&id=207:zwis
 chenpruefung-bankkaufleute\n
DTSTART;VALUE=DATE:20160928
DTEND;VALUE=DATE:20160929
SUMMARY:Zwischenprüfung Bankkaufleute
URL:https://bsz-kelheim.de/index.php?option=com_jem&view=event&id=207:zwisc
 henpruefung-bankkaufleute
END:VEVENT
END:VCALENDAR
