BEGIN:VCALENDAR
VERSION:2.0
PRODID:-//217.160.0.217//NONSGML kigkonsult.se iCalcreator 2.20//
CALSCALE:GREGORIAN
METHOD:PUBLISH
X-WR-TIMEZONE:Europe/Berlin
BEGIN:VEVENT
UID:event208@Berufsschule, BOS und FOS Kelheim
DTSTAMP:20260419T145028Z
CATEGORIES:Schule - WS
DESCRIPTION:Bewerbungstraining W9\nKategorie: Schule - WS\nICS-Link: https:
 //bsz-kelheim.de/index.php?option=com_jem&view=event&id=208:bewerbungstrai
 ning-w9\n
DTSTART;VALUE=DATE:20161109
DTEND;VALUE=DATE:20161111
LOCATION:Wirtschaftsschule Abensberg\,Römerstraße 12\,93326 Abensberg
SUMMARY:Bewerbungstraining W9
URL:https://bsz-kelheim.de/index.php?option=com_jem&view=event&id=208:bewer
 bungstraining-w9
END:VEVENT
END:VCALENDAR
