BEGIN:VCALENDAR
VERSION:2.0
PRODID:-//217.160.0.217//NONSGML kigkonsult.se iCalcreator 2.20//
CALSCALE:GREGORIAN
METHOD:PUBLISH
X-WR-TIMEZONE:Europe/Berlin
BEGIN:VEVENT
UID:event216@Berufsschule, BOS und FOS Kelheim
DTSTAMP:20260419T145018Z
CATEGORIES:Schule - WS
DESCRIPTION:Skilager W7\nKategorie: Schule - WS\nICS-Link: https://bsz-kelh
 eim.de/index.php?option=com_jem&view=event&id=216:skilager-w7\n
DTSTART;VALUE=DATE:20170312
DTEND;VALUE=DATE:20170318
LOCATION:Wirtschaftsschule Abensberg\,Römerstraße 12\,93326 Abensberg
SUMMARY:Skilager W7
URL:https://bsz-kelheim.de/index.php?option=com_jem&view=event&id=216:skila
 ger-w7
END:VEVENT
END:VCALENDAR
