BEGIN:VCALENDAR
VERSION:2.0
PRODID:-//217.160.0.217//NONSGML kigkonsult.se iCalcreator 2.20//
CALSCALE:GREGORIAN
METHOD:PUBLISH
X-WR-TIMEZONE:Europe/Berlin
BEGIN:VEVENT
UID:event217@Berufsschule, BOS und FOS Kelheim
DTSTAMP:20260421T104231Z
CATEGORIES:Schule - WS
DESCRIPTION:Informationsveranstaltung Wirtschaftsschule für Schuljahr 2017/
 2018\nKategorie: Schule - WS\nICS-Link: https://bsz-kelheim.de/index.php?o
 ption=com_jem&view=event&id=217:informationsveranstaltung-wirtschaftsschul
 e-fuer-schuljahr-2017-2018\n
DTSTART;TZID=Europe/Berlin:20170130T190000
DTEND;TZID=Europe/Berlin:20170130T190000
LOCATION:Wirtschaftsschule Abensberg\,Römerstraße 12\,93326 Abensberg
SUMMARY:Informationsveranstaltung Wirtschaftsschule für Schuljahr 2017/2018
URL:https://bsz-kelheim.de/index.php?option=com_jem&view=event&id=217:infor
 mationsveranstaltung-wirtschaftsschule-fuer-schuljahr-2017-2018
END:VEVENT
END:VCALENDAR
