BEGIN:VCALENDAR
VERSION:2.0
PRODID:-//217.160.0.217//NONSGML kigkonsult.se iCalcreator 2.20//
CALSCALE:GREGORIAN
METHOD:PUBLISH
X-WR-TIMEZONE:Europe/Berlin
BEGIN:VEVENT
UID:event219@Berufsschule, BOS und FOS Kelheim
DTSTAMP:20260423T145926Z
CATEGORIES:Schule - WS
DESCRIPTION:Abschlussprüfungen WS\nKategorie: Schule - WS\nICS-Link: https:
 //bsz-kelheim.de/index.php?option=com_jem&view=event&id=219:abschlusspruef
 ungen-ws\n
DTSTART;VALUE=DATE:20170619
DTEND;VALUE=DATE:20170701
LOCATION:Wirtschaftsschule Abensberg\,Römerstraße 12\,93326 Abensberg
SUMMARY:Abschlussprüfungen WS
URL:https://bsz-kelheim.de/index.php?option=com_jem&view=event&id=219:absch
 lusspruefungen-ws
END:VEVENT
END:VCALENDAR
