BEGIN:VCALENDAR
VERSION:2.0
PRODID:-//217.160.0.217//NONSGML kigkonsult.se iCalcreator 2.20//
CALSCALE:GREGORIAN
METHOD:PUBLISH
X-WR-TIMEZONE:Europe/Berlin
BEGIN:VEVENT
UID:event220@Berufsschule, BOS und FOS Kelheim
DTSTAMP:20260419T174846Z
CATEGORIES:Schule - WS
DESCRIPTION:Klassenelternabend\nKategorie: Schule - WS\nICS-Link: https://b
 sz-kelheim.de/index.php?option=com_jem&view=event&id=220:klassenelternaben
 d\n
DTSTART;VALUE=DATE:20160926
DTEND;VALUE=DATE:20160927
LOCATION:Wirtschaftsschule Abensberg\,Römerstraße 12\,93326 Abensberg
SUMMARY:Klassenelternabend
URL:https://bsz-kelheim.de/index.php?option=com_jem&view=event&id=220:klass
 enelternabend
END:VEVENT
END:VCALENDAR
