BEGIN:VCALENDAR
VERSION:2.0
PRODID:-//217.160.0.217//NONSGML kigkonsult.se iCalcreator 2.20//
CALSCALE:GREGORIAN
METHOD:PUBLISH
X-WR-TIMEZONE:Europe/Berlin
BEGIN:VEVENT
UID:event221@Berufsschule, BOS und FOS Kelheim
DTSTAMP:20260419T175325Z
CATEGORIES:Schule - WS
DESCRIPTION:Schullandheim W7\nKategorie: Schule - WS\nICS-Link: https://bsz
 -kelheim.de/index.php?option=com_jem&view=event&id=221:schullandheim-w7\n
DTSTART;VALUE=DATE:20160926
DTEND;VALUE=DATE:20160929
LOCATION:Wirtschaftsschule Abensberg\,Römerstraße 12\,93326 Abensberg
SUMMARY:Schullandheim W7
URL:https://bsz-kelheim.de/index.php?option=com_jem&view=event&id=221:schul
 landheim-w7
END:VEVENT
END:VCALENDAR
