BEGIN:VCALENDAR
VERSION:2.0
PRODID:-//217.160.0.217//NONSGML kigkonsult.se iCalcreator 2.20//
CALSCALE:GREGORIAN
METHOD:PUBLISH
X-WR-TIMEZONE:Europe/Berlin
BEGIN:VEVENT
UID:event224@Berufsschule, BOS und FOS Kelheim
DTSTAMP:20260421T103617Z
CATEGORIES:Schule - FOSBOS
DESCRIPTION:Klassen-Elternabend mit Wahl des Elternbeirates FOS/BOS\nKatego
 rie: Schule - FOSBOS\nICS-Link: https://bsz-kelheim.de/index.php?option=co
 m_jem&view=event&id=224:klassen-elternabend-mit-wahl-des-elternbeirates\n
DTSTART;TZID=Europe/Berlin:20171025T183000
DTEND;TZID=Europe/Berlin:20171025T200000
LOCATION:BSZ Kelheim\,Schützenstraße 30\,93309 Kelheim
SUMMARY:Klassen-Elternabend mit Wahl des Elternbeirates FOS/BOS
URL:https://bsz-kelheim.de/index.php?option=com_jem&view=event&id=224:klass
 en-elternabend-mit-wahl-des-elternbeirates
END:VEVENT
END:VCALENDAR
