BEGIN:VCALENDAR
VERSION:2.0
PRODID:-//217.160.0.217//NONSGML kigkonsult.se iCalcreator 2.20//
CALSCALE:GREGORIAN
METHOD:PUBLISH
X-WR-TIMEZONE:Europe/Berlin
BEGIN:VEVENT
UID:event229@Berufsschule, BOS und FOS Kelheim
DTSTAMP:20260421T175741Z
CATEGORIES:Schule - FOSBOS
DESCRIPTION:Anmeldezeitraum für das Schuljahr 2017/2018\nKategorie: Schule 
 - FOSBOS\nICS-Link: https://bsz-kelheim.de/index.php?option=com_jem&view=e
 vent&id=229:anmeldezeitraum-fuer-das-schuljahr-2017-2018\n
DTSTART;VALUE=DATE:20170306
DTEND;VALUE=DATE:20170318
LOCATION:BSZ Kelheim\,Schützenstraße 30\,93309 Kelheim
SUMMARY:Anmeldezeitraum für das Schuljahr 2017/2018
URL:https://bsz-kelheim.de/index.php?option=com_jem&view=event&id=229:anmel
 dezeitraum-fuer-das-schuljahr-2017-2018
END:VEVENT
END:VCALENDAR
