BEGIN:VCALENDAR
VERSION:2.0
PRODID:-//217.160.0.217//NONSGML kigkonsult.se iCalcreator 2.20//
CALSCALE:GREGORIAN
METHOD:PUBLISH
X-WR-TIMEZONE:Europe/Berlin
BEGIN:VEVENT
UID:event230@Berufsschule, BOS und FOS Kelheim
DTSTAMP:20260423T114134Z
CATEGORIES:Schule - FOSBOS
DESCRIPTION:Bekanntgabe der Jahresfortgangsnoten für die Abschlussklassen\n
 Kategorie: Schule - FOSBOS\nICS-Link: https://bsz-kelheim.de/index.php?opt
 ion=com_jem&view=event&id=230:bekanntgabe-der-jahresfortgangsnoten-fuer-di
 e-abschlussklassen\n
DTSTART;VALUE=DATE:20170526
DTEND;VALUE=DATE:20170527
LOCATION:BSZ Kelheim\,Schützenstraße 30\,93309 Kelheim
SUMMARY:Bekanntgabe der Jahresfortgangsnoten für die Abschlussklassen
URL:https://bsz-kelheim.de/index.php?option=com_jem&view=event&id=230:bekan
 ntgabe-der-jahresfortgangsnoten-fuer-die-abschlussklassen
END:VEVENT
END:VCALENDAR
