BEGIN:VCALENDAR
VERSION:2.0
PRODID:-//217.160.0.217//NONSGML kigkonsult.se iCalcreator 2.20//
CALSCALE:GREGORIAN
METHOD:PUBLISH
X-WR-TIMEZONE:Europe/Berlin
BEGIN:VEVENT
UID:event232@Berufsschule, BOS und FOS Kelheim
DTSTAMP:20260423T112837Z
CATEGORIES:Schule - FOSBOS
DESCRIPTION:Fachabitur- und Abiturprüfungen\nKategorie: Schule - FOSBOS\nIC
 S-Link: https://bsz-kelheim.de/index.php?option=com_jem&view=event&id=232:
 fachabitur-und-abiturpruefungen\n
DTSTART;VALUE=DATE:20170529
DTEND;VALUE=DATE:20170603
LOCATION:BSZ Kelheim\,Schützenstraße 30\,93309 Kelheim
SUMMARY:Fachabitur- und Abiturprüfungen
URL:https://bsz-kelheim.de/index.php?option=com_jem&view=event&id=232:facha
 bitur-und-abiturpruefungen
END:VEVENT
END:VCALENDAR
