BEGIN:VCALENDAR
VERSION:2.0
PRODID:-//217.160.0.217//NONSGML kigkonsult.se iCalcreator 2.20//
CALSCALE:GREGORIAN
METHOD:PUBLISH
X-WR-TIMEZONE:Europe/Berlin
BEGIN:VEVENT
UID:event236@Berufsschule, BOS und FOS Kelheim
DTSTAMP:20260421T141714Z
CATEGORIES:Schule - BS-Kelheim
DESCRIPTION:Schriftliche Abschlussprüfung der kaufmännischen Berufe\nKatego
 rie: Schule - BS-Kelheim\nICS-Link: https://bsz-kelheim.de/index.php?optio
 n=com_jem&view=event&id=236:treffen-betriebe-buerokaufmann-frau\n
DTSTART;VALUE=DATE:20170509
DTEND;VALUE=DATE:20170511
SUMMARY:Schriftliche Abschlussprüfung der kaufmännischen Berufe
URL:https://bsz-kelheim.de/index.php?option=com_jem&view=event&id=236:treff
 en-betriebe-buerokaufmann-frau
END:VEVENT
END:VCALENDAR
