BEGIN:VCALENDAR
VERSION:2.0
PRODID:-//217.160.0.217//NONSGML kigkonsult.se iCalcreator 2.20//
CALSCALE:GREGORIAN
METHOD:PUBLISH
X-WR-TIMEZONE:Europe/Berlin
BEGIN:VEVENT
UID:event241@Berufsschule, BOS und FOS Kelheim
DTSTAMP:20260421T104217Z
CATEGORIES:Schule - BS-Kelheim\, Schule - BS-Mainburg
DESCRIPTION:Schulabschlussfeier der Staatlichen Berufsschule Kelheim und Ma
 inburg in der Aula des BSZ Kelheim\nKategorie: Schule - BS-Kelheim\, Schul
 e - BS-Mainburg\nICS-Link: https://bsz-kelheim.de/index.php?option=com_jem
 &view=event&id=241:schulabschlussfeier-der-staatlichen-berufsschule-kelhei
 m-und-mainburg-in-der-aula-des-bsz-kelheim\n
DTSTART;TZID=Europe/Berlin:20170217T140000
DTEND;TZID=Europe/Berlin:20170217T140000
SUMMARY:Schulabschlussfeier der Staatlichen Berufsschule Kelheim und Mainbu
 rg in der Aula des BSZ Kelheim
URL:https://bsz-kelheim.de/index.php?option=com_jem&view=event&id=241:schul
 abschlussfeier-der-staatlichen-berufsschule-kelheim-und-mainburg-in-der-au
 la-des-bsz-kelheim
END:VEVENT
END:VCALENDAR
