BEGIN:VCALENDAR
VERSION:2.0
PRODID:-//217.160.0.217//NONSGML kigkonsult.se iCalcreator 2.20//
CALSCALE:GREGORIAN
METHOD:PUBLISH
X-WR-TIMEZONE:Europe/Berlin
BEGIN:VEVENT
UID:event245@Berufsschule, BOS und FOS Kelheim
DTSTAMP:20260419T145939Z
CATEGORIES:Schule - WS
DESCRIPTION:Anmeldung für die Wirtschaftsschule\nKategorie: Schule - WS\nIC
 S-Link: https://bsz-kelheim.de/index.php?option=com_jem&view=event&id=245:
 anmeldung-fuer-die-wirtschaftsschule\n
DTSTART;VALUE=DATE:20170327
DTEND;VALUE=DATE:20170408
LOCATION:Wirtschaftsschule Abensberg\,Römerstraße 12\,93326 Abensberg
SUMMARY:Anmeldung für die Wirtschaftsschule
URL:https://bsz-kelheim.de/index.php?option=com_jem&view=event&id=245:anmel
 dung-fuer-die-wirtschaftsschule
END:VEVENT
END:VCALENDAR
