BEGIN:VCALENDAR
VERSION:2.0
PRODID:-//217.160.0.217//NONSGML kigkonsult.se iCalcreator 2.20//
CALSCALE:GREGORIAN
METHOD:PUBLISH
X-WR-TIMEZONE:Europe/Berlin
BEGIN:VEVENT
UID:event246@Berufsschule, BOS und FOS Kelheim
DTSTAMP:20260419T145540Z
CATEGORIES:Schule - WS
DESCRIPTION:Abschlussfeier der 10. Klasse Wirtschaftsschule\nKategorie: Sch
 ule - WS\nICS-Link: https://bsz-kelheim.de/index.php?option=com_jem&view=e
 vent&id=246:abschlussfeier-der-10-klasse-wirtschaftsschule\n
DTSTART;TZID=Europe/Berlin:20170720T180000
DTEND;TZID=Europe/Berlin:20170720T180000
SUMMARY:Abschlussfeier der 10. Klasse Wirtschaftsschule
URL:https://bsz-kelheim.de/index.php?option=com_jem&view=event&id=246:absch
 lussfeier-der-10-klasse-wirtschaftsschule
END:VEVENT
END:VCALENDAR
