BEGIN:VCALENDAR
VERSION:2.0
PRODID:-//217.160.0.217//NONSGML kigkonsult.se iCalcreator 2.20//
CALSCALE:GREGORIAN
METHOD:PUBLISH
X-WR-TIMEZONE:Europe/Berlin
BEGIN:VEVENT
UID:event247@Berufsschule, BOS und FOS Kelheim
DTSTAMP:20260419T124304Z
CATEGORIES:Schule - BS-Kelheim
DESCRIPTION:Anwenderschulung Bosch FSA 740\nKategorie: Schule - BS-Kelheim
 \nICS-Link: https://bsz-kelheim.de/index.php?option=com_jem&view=event&id=
 247:anwenderschulung-bosch-fsa-740\n
DTSTART;VALUE=DATE:20170502
DTEND;VALUE=DATE:20170504
LOCATION:Berufsschule in Kelheim\,Schützenstraße 30\,93309 Kelheim
SUMMARY:Anwenderschulung Bosch FSA 740
URL:https://bsz-kelheim.de/index.php?option=com_jem&view=event&id=247:anwen
 derschulung-bosch-fsa-740
END:VEVENT
END:VCALENDAR
