BEGIN:VCALENDAR
VERSION:2.0
PRODID:-//217.160.0.217//NONSGML kigkonsult.se iCalcreator 2.20//
CALSCALE:GREGORIAN
METHOD:PUBLISH
X-WR-TIMEZONE:Europe/Berlin
BEGIN:VEVENT
UID:event251@Berufsschule, BOS und FOS Kelheim
DTSTAMP:20260421T180030Z
CATEGORIES:Schule - BS-Kelheim
DESCRIPTION:KMK Zertifikatsprüfungen Englisch - Geld- und Kreditwirtschaft 
 Stufe 2\nKategorie: Schule - BS-Kelheim\nICS-Link: https://bsz-kelheim.de/
 index.php?option=com_jem&view=event&id=251:kmk-zertifikatspruefungen-engli
 sch-geld-und-kreditwirtschaft-stufe-2\n
DTSTART;TZID=Europe/Berlin:20170517T090000
DTEND;TZID=Europe/Berlin:20170517T090000
LOCATION:Berufsschule in Kelheim\,Schützenstraße 30\,93309 Kelheim
SUMMARY:KMK Zertifikatsprüfungen Englisch - Geld- und Kreditwirtschaft Stuf
 e 2
URL:https://bsz-kelheim.de/index.php?option=com_jem&view=event&id=251:kmk-z
 ertifikatspruefungen-englisch-geld-und-kreditwirtschaft-stufe-2
END:VEVENT
END:VCALENDAR
