BEGIN:VCALENDAR
VERSION:2.0
PRODID:-//217.160.0.217//NONSGML kigkonsult.se iCalcreator 2.20//
CALSCALE:GREGORIAN
METHOD:PUBLISH
X-WR-TIMEZONE:Europe/Berlin
BEGIN:VEVENT
UID:event252@Berufsschule, BOS und FOS Kelheim
DTSTAMP:20260419T181443Z
CATEGORIES:Schule - BS-Kelheim
DESCRIPTION:KMK Zertifikatsprüfungen Englisch - Büroberufe Stufe 2\nKategor
 ie: Schule - BS-Kelheim\nICS-Link: https://bsz-kelheim.de/index.php?option
 =com_jem&view=event&id=252:kmk-zertifikatspruefungen-englisch-bueroberufe-
 stufe-2\n
DTSTART;TZID=Europe/Berlin:20170524T090000
DTEND;TZID=Europe/Berlin:20170524T090000
LOCATION:Berufsschule in Kelheim\,Schützenstraße 30\,93309 Kelheim
SUMMARY:KMK Zertifikatsprüfungen Englisch - Büroberufe Stufe 2
URL:https://bsz-kelheim.de/index.php?option=com_jem&view=event&id=252:kmk-z
 ertifikatspruefungen-englisch-bueroberufe-stufe-2
END:VEVENT
END:VCALENDAR
