BEGIN:VCALENDAR
VERSION:2.0
PRODID:-//217.160.0.217//NONSGML kigkonsult.se iCalcreator 2.20//
CALSCALE:GREGORIAN
METHOD:PUBLISH
X-WR-TIMEZONE:Europe/Berlin
BEGIN:VEVENT
UID:event255@Berufsschule, BOS und FOS Kelheim
DTSTAMP:20260421T175817Z
CATEGORIES:Schule - FOSBOS
DESCRIPTION:Bewerbertraining der Raiffeisenbank Bad Abbach-Saal\, GS Hausen
 \nKategorie: Schule - FOSBOS\nICS-Link: https://bsz-kelheim.de/index.php?o
 ption=com_jem&view=event&id=255:bewerbertraining-der-raiffeisenbank-bad-ab
 bach-saal-gs-hausen\n
DTSTART;VALUE=DATE:20170626
DTEND;VALUE=DATE:20170627
LOCATION:BSZ Kelheim\,Schützenstraße 30\,93309 Kelheim
SUMMARY:Bewerbertraining der Raiffeisenbank Bad Abbach-Saal\, GS Hausen
URL:https://bsz-kelheim.de/index.php?option=com_jem&view=event&id=255:bewer
 bertraining-der-raiffeisenbank-bad-abbach-saal-gs-hausen
END:VEVENT
END:VCALENDAR
