BEGIN:VCALENDAR
VERSION:2.0
PRODID:-//217.160.0.217//NONSGML kigkonsult.se iCalcreator 2.20//
CALSCALE:GREGORIAN
METHOD:PUBLISH
X-WR-TIMEZONE:Europe/Berlin
BEGIN:VEVENT
UID:event256@Berufsschule, BOS und FOS Kelheim
DTSTAMP:20260421T140452Z
CATEGORIES:Schule - BS-Kelheim\, Schule - FOSBOS
DESCRIPTION:Unterrichtsende Schuljahresende\nKategorie: Schule - BS-Kelheim
 \, Schule - FOSBOS\nICS-Link: https://bsz-kelheim.de/index.php?option=com_
 jem&view=event&id=256:unterrichtsende-schuljahresende\n
DTSTART;TZID=Europe/Berlin:20170728T104500
DTEND;TZID=Europe/Berlin:20170728T104500
SUMMARY:Unterrichtsende Schuljahresende
URL:https://bsz-kelheim.de/index.php?option=com_jem&view=event&id=256:unter
 richtsende-schuljahresende
END:VEVENT
END:VCALENDAR
