BEGIN:VCALENDAR
VERSION:2.0
PRODID:-//217.160.0.217//NONSGML kigkonsult.se iCalcreator 2.20//
CALSCALE:GREGORIAN
METHOD:PUBLISH
X-WR-TIMEZONE:Europe/Berlin
BEGIN:VEVENT
UID:event261@Berufsschule, BOS und FOS Kelheim
DTSTAMP:20260421T135617Z
CATEGORIES:Schule - BS-Kelheim\, Schule - BS-Mainburg
DESCRIPTION:Abschlussfeier Berufsschule\nKategorie: Schule - BS-Kelheim\, S
 chule - BS-Mainburg\nICS-Link: https://bsz-kelheim.de/index.php?option=com
 _jem&view=event&id=261:abschlussfeier-berufsschule\n
DTSTART;TZID=Europe/Berlin:20180727T090000
DTEND;TZID=Europe/Berlin:20180727T090000
LOCATION:Berufsschule in Mainburg\,Ebrantshauser Straße 2\,84048 Mainburg
SUMMARY:Abschlussfeier Berufsschule
URL:https://bsz-kelheim.de/index.php?option=com_jem&view=event&id=261:absch
 lussfeier-berufsschule
END:VEVENT
END:VCALENDAR
