BEGIN:VCALENDAR
VERSION:2.0
PRODID:-//217.160.0.217//NONSGML kigkonsult.se iCalcreator 2.20//
CALSCALE:GREGORIAN
METHOD:PUBLISH
X-WR-TIMEZONE:Europe/Berlin
BEGIN:VEVENT
UID:event269@Berufsschule, BOS und FOS Kelheim
DTSTAMP:20260419T145146Z
CATEGORIES:Schule - WS
DESCRIPTION:Infoveranstaltung Wirtschaftsschule\nKategorie: Schule - WS\nIC
 S-Link: https://bsz-kelheim.de/index.php?option=com_jem&view=event&id=269:
 infoveranstaltung-wirtschaftsschule\n
DTSTART;TZID=Europe/Berlin:20180303T100000
DTEND;TZID=Europe/Berlin:20180303T100000
LOCATION:Wirtschaftsschule Abensberg\,Römerstraße 12\,93326 Abensberg
SUMMARY:Infoveranstaltung Wirtschaftsschule
URL:https://bsz-kelheim.de/index.php?option=com_jem&view=event&id=269:infov
 eranstaltung-wirtschaftsschule
END:VEVENT
END:VCALENDAR
