BEGIN:VCALENDAR
VERSION:2.0
PRODID:-//217.160.0.217//NONSGML kigkonsult.se iCalcreator 2.20//
CALSCALE:GREGORIAN
METHOD:PUBLISH
X-WR-TIMEZONE:Europe/Berlin
BEGIN:VEVENT
UID:event270@Berufsschule, BOS und FOS Kelheim
DTSTAMP:20260421T174035Z
CATEGORIES:Schule - BS-Kelheim
DESCRIPTION:Schule macht Theater - Öffentliche Aufführung\nKategorie: Schul
 e - BS-Kelheim\nICS-Link: https://bsz-kelheim.de/index.php?option=com_jem&
 view=event&id=270:schule-macht-theater-oeffentliche-auffuehrung\n
DTSTART;TZID=Europe/Berlin:20180302T190000
DTEND;TZID=Europe/Berlin:20180302T190000
LOCATION:BSZ Kelheim\,Schützenstraße 30\,93309 Kelheim
SUMMARY:Schule macht Theater - Öffentliche Aufführung
URL:https://bsz-kelheim.de/index.php?option=com_jem&view=event&id=270:schul
 e-macht-theater-oeffentliche-auffuehrung
END:VEVENT
END:VCALENDAR
