BEGIN:VCALENDAR
VERSION:2.0
PRODID:-//217.160.0.217//NONSGML kigkonsult.se iCalcreator 2.20//
CALSCALE:GREGORIAN
METHOD:PUBLISH
X-WR-TIMEZONE:Europe/Berlin
BEGIN:VEVENT
UID:event279@Berufsschule, BOS und FOS Kelheim
DTSTAMP:20260421T102626Z
CATEGORIES:Schule - BS-Kelheim\, Schule - WS
DESCRIPTION:Abschlussfeier Wirtschaftsschule\nKategorie: Schule - BS-Kelhei
 m\, Schule - WS\nICS-Link: https://bsz-kelheim.de/index.php?option=com_jem
 &view=event&id=279:abschlussfeier-wirtschaftsschule\n
DTSTART;TZID=Europe/Berlin:20180719T173000
DTEND;TZID=Europe/Berlin:20180719T173000
LOCATION:Wirtschaftsschule Abensberg\,Römerstraße 12\,93326 Abensberg
SUMMARY:Abschlussfeier Wirtschaftsschule
URL:https://bsz-kelheim.de/index.php?option=com_jem&view=event&id=279:absch
 lussfeier-wirtschaftsschule
END:VEVENT
END:VCALENDAR
