BEGIN:VCALENDAR
VERSION:2.0
PRODID:-//217.160.0.217//NONSGML kigkonsult.se iCalcreator 2.20//
CALSCALE:GREGORIAN
METHOD:PUBLISH
X-WR-TIMEZONE:Europe/Berlin
BEGIN:VEVENT
UID:event28@Berufsschule, BOS und FOS Kelheim
DTSTAMP:20260420T011247Z
CATEGORIES:Schule - BS-Kelheim
DESCRIPTION:Teil 1 der gestreckten Abschlussprüfung - Kaufleute für Büroman
 agement\nKategorie: Schule - BS-Kelheim\nICS-Link: https://bsz-kelheim.de/
 index.php?option=com_jem&view=event&id=28:teil-1-der-gestreckten-abschluss
 pruefung-kaufleute-fuer-bueromanagement\n
DTSTART;VALUE=DATE:20170309
DTEND;VALUE=DATE:20170311
SUMMARY:Teil 1 der gestreckten Abschlussprüfung - Kaufleute für Büromanagem
 ent
URL:https://bsz-kelheim.de/index.php?option=com_jem&view=event&id=28:teil-1
 -der-gestreckten-abschlusspruefung-kaufleute-fuer-bueromanagement
END:VEVENT
END:VCALENDAR
