BEGIN:VCALENDAR
VERSION:2.0
PRODID:-//217.160.0.217//NONSGML kigkonsult.se iCalcreator 2.20//
CALSCALE:GREGORIAN
METHOD:PUBLISH
X-WR-TIMEZONE:Europe/Berlin
BEGIN:VEVENT
UID:event280@Berufsschule, BOS und FOS Kelheim
DTSTAMP:20260421T100046Z
CATEGORIES:Schule - WS
DESCRIPTION:Probeunterricht Wirtschaftsschule\nKategorie: Schule - WS\nICS-
 Link: https://bsz-kelheim.de/index.php?option=com_jem&view=event&id=280:pr
 obeunterricht-wirtschaftsschule\n
DTSTART;TZID=Europe/Berlin:20180905T080000
DTEND;TZID=Europe/Berlin:20180907T080000
LOCATION:Wirtschaftsschule Abensberg\,Römerstraße 12\,93326 Abensberg
SUMMARY:Probeunterricht Wirtschaftsschule
URL:https://bsz-kelheim.de/index.php?option=com_jem&view=event&id=280:probe
 unterricht-wirtschaftsschule
END:VEVENT
END:VCALENDAR
