BEGIN:VCALENDAR
VERSION:2.0
PRODID:-//217.160.0.217//NONSGML kigkonsult.se iCalcreator 2.20//
CALSCALE:GREGORIAN
METHOD:PUBLISH
X-WR-TIMEZONE:Europe/Berlin
BEGIN:VEVENT
UID:event281@Berufsschule, BOS und FOS Kelheim
DTSTAMP:20260421T141019Z
CATEGORIES:Schule - BS-Kelheim
DESCRIPTION:Zeitzeugengespräch mit Rainer F. Schneider zur DDR-Geschichte\n
 Kategorie: Schule - BS-Kelheim\nICS-Link: https://bsz-kelheim.de/index.php
 ?option=com_jem&view=event&id=281:zeitzeugengespraech-mit-rainer-f-schneid
 er-zur-ddr-geschichte\n
DTSTART;TZID=Europe/Berlin:20180703T075000
DTEND;TZID=Europe/Berlin:20180703T123500
LOCATION:BSZ Kelheim\,Schützenstraße 30\,93309 Kelheim
SUMMARY:Zeitzeugengespräch mit Rainer F. Schneider zur DDR-Geschichte
URL:https://bsz-kelheim.de/index.php?option=com_jem&view=event&id=281:zeitz
 eugengespraech-mit-rainer-f-schneider-zur-ddr-geschichte
END:VEVENT
END:VCALENDAR
