BEGIN:VCALENDAR
VERSION:2.0
PRODID:-//217.160.0.217//NONSGML kigkonsult.se iCalcreator 2.20//
CALSCALE:GREGORIAN
METHOD:PUBLISH
X-WR-TIMEZONE:Europe/Berlin
BEGIN:VEVENT
UID:event282@Berufsschule, BOS und FOS Kelheim
DTSTAMP:20260419T181443Z
CATEGORIES:Schule - BS-Kelheim\, Schule - FOSBOS
DESCRIPTION:Zeitzeugengespräch mit Rainer F. Schneider zur DDR-Geschichte\n
 Kategorie: Schule - BS-Kelheim\, Schule - FOSBOS\nICS-Link: https://bsz-ke
 lheim.de/index.php?option=com_jem&view=event&id=282:zeitzeugengespraech-mi
 t-rainer-f-schneider-zur-ddr-geschichte\n
DTSTART;TZID=Europe/Berlin:20180719T092000
DTEND;TZID=Europe/Berlin:20180719T115000
LOCATION:BSZ Kelheim\,Schützenstraße 30\,93309 Kelheim
SUMMARY:Zeitzeugengespräch mit Rainer F. Schneider zur DDR-Geschichte
URL:https://bsz-kelheim.de/index.php?option=com_jem&view=event&id=282:zeitz
 eugengespraech-mit-rainer-f-schneider-zur-ddr-geschichte
END:VEVENT
END:VCALENDAR
