BEGIN:VCALENDAR
VERSION:2.0
PRODID:-//217.160.0.217//NONSGML kigkonsult.se iCalcreator 2.20//
CALSCALE:GREGORIAN
METHOD:PUBLISH
X-WR-TIMEZONE:Europe/Berlin
BEGIN:VEVENT
UID:event286@Berufsschule, BOS und FOS Kelheim
DTSTAMP:20260421T100258Z
CATEGORIES:Anmeldung FOSBOS
DESCRIPTION:2. Infoabend FOSBOS\nKategorie: Anmeldung FOSBOS\nICS-Link: htt
 ps://bsz-kelheim.de/index.php?option=com_jem&view=event&id=286:2-infoabend
 -fosbos\n
DTSTART;TZID=Europe/Berlin:20190212T190000
DTEND;TZID=Europe/Berlin:20190212T190000
LOCATION:FOSBOS Kelheim\,Schützenstraße 30\,93309 Kelheim
SUMMARY:2. Infoabend FOSBOS
URL:https://bsz-kelheim.de/index.php?option=com_jem&view=event&id=286:2-inf
 oabend-fosbos
END:VEVENT
END:VCALENDAR
