BEGIN:VCALENDAR
VERSION:2.0
PRODID:-//217.160.0.217//NONSGML kigkonsult.se iCalcreator 2.20//
CALSCALE:GREGORIAN
METHOD:PUBLISH
X-WR-TIMEZONE:Europe/Berlin
BEGIN:VEVENT
UID:event289@Berufsschule, BOS und FOS Kelheim
DTSTAMP:20260419T175317Z
CATEGORIES:Schule - WS
DESCRIPTION:Informationsabend Wirtschaftsschule\nKategorie: Schule - WS\nIC
 S-Link: https://bsz-kelheim.de/index.php?option=com_jem&view=event&id=289:
 informationsabend-wirtschaftsschule\n
DTSTART;TZID=Europe/Berlin:20190227T190000
DTEND;TZID=Europe/Berlin:20190227T190000
LOCATION:Wirtschaftsschule Abensberg\,Römerstraße 12\,93326 Abensberg
SUMMARY:Informationsabend Wirtschaftsschule
URL:https://bsz-kelheim.de/index.php?option=com_jem&view=event&id=289:infor
 mationsabend-wirtschaftsschule
END:VEVENT
END:VCALENDAR
