BEGIN:VCALENDAR
VERSION:2.0
PRODID:-//217.160.0.217//NONSGML kigkonsult.se iCalcreator 2.20//
CALSCALE:GREGORIAN
METHOD:PUBLISH
X-WR-TIMEZONE:Europe/Berlin
BEGIN:VEVENT
UID:event304@Berufsschule, BOS und FOS Kelheim
DTSTAMP:20260421T180220Z
CATEGORIES:Schule - BS-Kelheim\, Schule - BS-Mainburg\, Schule - FOSBOS\, S
 chule - WS
DESCRIPTION:„Sabbatjahr\, Teilzeit\, Altersteilzeit und deren Auswirkungen 
 auf die Versorgung“ – Rudi Keil (VLB)\nKategorie: Schule - BS-Kelheim\, Sc
 hule - BS-Mainburg\, Schule - FOSBOS\, Schule - WS\nICS-Link: https://bsz-
 kelheim.de/index.php?option=com_jem&view=event&id=304:sabbatjahr-teilzeit-
 altersteilzeit-und-deren-auswirkungen-auf-die-versorgung-rudi-keil-vlb\n
DTSTART;TZID=Europe/Berlin:20190409T140000
DTEND;TZID=Europe/Berlin:20190409T140000
LOCATION:BSZ Kelheim\,Schützenstraße 30\,93309 Kelheim
SUMMARY:„Sabbatjahr\, Teilzeit\, Altersteilzeit und deren Auswirkungen auf 
 die Versorgung“ – Rudi Keil (VLB)
URL:https://bsz-kelheim.de/index.php?option=com_jem&view=event&id=304:sabba
 tjahr-teilzeit-altersteilzeit-und-deren-auswirkungen-auf-die-versorgung-ru
 di-keil-vlb
END:VEVENT
END:VCALENDAR
