BEGIN:VCALENDAR
VERSION:2.0
PRODID:-//217.160.0.217//NONSGML kigkonsult.se iCalcreator 2.20//
CALSCALE:GREGORIAN
METHOD:PUBLISH
X-WR-TIMEZONE:Europe/Berlin
BEGIN:VEVENT
UID:event310@Berufsschule, BOS und FOS Kelheim
DTSTAMP:20260419T150231Z
CATEGORIES:Schule - BS-Kelheim
DESCRIPTION:IHK-Abschlussprüfung Teil 2 - Kaufmann /-frau im Einzelhandel\n
 Kategorie: Schule - BS-Kelheim\nICS-Link: https://bsz-kelheim.de/index.php
 ?option=com_jem&view=event&id=310:ihk-abschlusspruefung-teil-2-kaufmann-fr
 au-im-einzelhandel\n
DTSTART;TZID=Europe/Berlin:20190508T080000
DTEND;TZID=Europe/Berlin:20190508T100000
LOCATION:BSZ Kelheim\,Schützenstraße 30\,93309 Kelheim
SUMMARY:IHK-Abschlussprüfung Teil 2 - Kaufmann /-frau im Einzelhandel
URL:https://bsz-kelheim.de/index.php?option=com_jem&view=event&id=310:ihk-a
 bschlusspruefung-teil-2-kaufmann-frau-im-einzelhandel
END:VEVENT
END:VCALENDAR
