BEGIN:VCALENDAR
VERSION:2.0
PRODID:-//217.160.0.217//NONSGML kigkonsult.se iCalcreator 2.20//
CALSCALE:GREGORIAN
METHOD:PUBLISH
X-WR-TIMEZONE:Europe/Berlin
BEGIN:VEVENT
UID:event311@Berufsschule, BOS und FOS Kelheim
DTSTAMP:20260421T102921Z
CATEGORIES:Schule - BS-Kelheim
DESCRIPTION:Büroverbindungsstelle 2019\nKategorie: Schule - BS-Kelheim\nICS
 -Link: https://bsz-kelheim.de/index.php?option=com_jem&view=event&id=311:b
 ueroverbindungsstelle-2019\n
DTSTART;TZID=Europe/Berlin:20190521T150000
DTEND;TZID=Europe/Berlin:20190521T150000
SUMMARY:Büroverbindungsstelle 2019
URL:https://bsz-kelheim.de/index.php?option=com_jem&view=event&id=311:buero
 verbindungsstelle-2019
END:VEVENT
END:VCALENDAR
