BEGIN:VCALENDAR
VERSION:2.0
PRODID:-//217.160.0.217//NONSGML kigkonsult.se iCalcreator 2.20//
CALSCALE:GREGORIAN
METHOD:PUBLISH
X-WR-TIMEZONE:Europe/Berlin
BEGIN:VEVENT
UID:event317@Berufsschule, BOS und FOS Kelheim
DTSTAMP:20260419T175206Z
CATEGORIES:Schule - BS-Kelheim\, Schule - FOSBOS
DESCRIPTION:EVA-Projekt \nKategorie: Schule - BS-Kelheim\, Schule - FOSBOS
 \nICS-Link: https://bsz-kelheim.de/index.php?option=com_jem&view=event&id=
 317:eva-projekt\n
DTSTART;VALUE=DATE:20190718
DTEND;VALUE=DATE:20190719
LOCATION:BSZ Kelheim\,Schützenstraße 30\,93309 Kelheim
SUMMARY:EVA-Projekt 
URL:https://bsz-kelheim.de/index.php?option=com_jem&view=event&id=317:eva-p
 rojekt
END:VEVENT
END:VCALENDAR
