BEGIN:VCALENDAR
VERSION:2.0
PRODID:-//217.160.0.217//NONSGML kigkonsult.se iCalcreator 2.20//
CALSCALE:GREGORIAN
METHOD:PUBLISH
X-WR-TIMEZONE:Europe/Berlin
BEGIN:VEVENT
UID:event319@Berufsschule, BOS und FOS Kelheim
DTSTAMP:20260419T143428Z
CATEGORIES:Schule - BS-Kelheim
DESCRIPTION:Beginn des Anmeldungs- und Informationszeitraums zur Zusatzausb
 ildung Fremdsprachenkorrespondent der IHK-Akademie\nKategorie: Schule - BS
 -Kelheim\nICS-Link: https://bsz-kelheim.de/index.php?option=com_jem&view=e
 vent&id=319:beginn-des-anmeldungs-und-informationszeitraums-zur-zusatzausb
 ildung-fremdsprachenkorrespondent-der-ihk-akademie\n
DTSTART;VALUE=DATE:20190910
DTEND;VALUE=DATE:20190911
LOCATION:BSZ Kelheim\,Schützenstraße 30\,93309 Kelheim
SUMMARY:Beginn des Anmeldungs- und Informationszeitraums zur Zusatzausbildu
 ng Fremdsprachenkorrespondent der IHK-Akademie
URL:https://bsz-kelheim.de/index.php?option=com_jem&view=event&id=319:begin
 n-des-anmeldungs-und-informationszeitraums-zur-zusatzausbildung-fremdsprac
 henkorrespondent-der-ihk-akademie
END:VEVENT
END:VCALENDAR
