BEGIN:VCALENDAR
VERSION:2.0
PRODID:-//217.160.0.217//NONSGML kigkonsult.se iCalcreator 2.20//
CALSCALE:GREGORIAN
METHOD:PUBLISH
X-WR-TIMEZONE:Europe/Berlin
BEGIN:VEVENT
UID:event32@Berufsschule, BOS und FOS Kelheim
DTSTAMP:20260421T102815Z
CATEGORIES:Schule - FOSBOS
DESCRIPTION:Abschussball der SMV an der FOS/BOS \nKategorie: Schule - FOSBO
 S\nICS-Link: https://bsz-kelheim.de/index.php?option=com_jem&view=event&id
 =32:abschussball-der-smv\n
DTSTART;TZID=Europe/Berlin:20150710T180000
DTEND;TZID=Europe/Berlin:20150710T180000
SUMMARY:Abschussball der SMV an der FOS/BOS 
URL:https://bsz-kelheim.de/index.php?option=com_jem&view=event&id=32:abschu
 ssball-der-smv
END:VEVENT
END:VCALENDAR
